BEGIN:VCALENDAR
PRODID:-//eluceo/ical//2.0/EN
VERSION:2.0
CALSCALE:GREGORIAN
BEGIN:VEVENT
UID:6fe696af369f3f27c0f0194cde9252ff
DTSTAMP:20260419T181605Z
SUMMARY:Sommerfest vom Jugendclub Ostbloq
DESCRIPTION:Der Jugendclub Ostbloq vom Chill Out e.V. feiert Sommerfest und
  auch wir sind dabei. Mit uns könnt ihr Ohrringe und Ketten selber machen
 .\nKommt vorbei:)
URL:https://awo-jp.de/de/event/sommerfest-vom-jugendclub-ostbloq/
DTSTART:20240920T150000
DTEND:20240920T150000
LOCATION:Jugendclub Ostbloq
END:VEVENT
BEGIN:VTIMEZONE
TZID:Europe/Berlin
BEGIN:DAYLIGHT
DTSTART:20240920T150000
TZNAME:CEST
TZOFFSETTO:+0200
TZOFFSETFROM:+0200
END:DAYLIGHT
END:VTIMEZONE
END:VCALENDAR
